0.25
0
0
-0.25
546160.125
4705519.875
