0.25
0
0
-0.25
577000.125
4703499.875
