0.25
0
0
-0.25
580430.125
4703539.875
