0.25
0
0
-0.25
577030.125
4701189.875
