0.25
0
0
-0.25
580450.125
4701229.875
