0.25
0
0
-0.25
566770.125
4698759.875
