0.25
0
0
-0.25
583990.125
4692019.875
