0.25
0
0
-0.25
604400.125
4703869.875
