0.25
0
0
-0.25
601010.125
4701499.875
