0.25
0
0
-0.25
594220.125
4696779.875
