0.25
0
0
-0.25
604500.125
4696929.875
