0.25
0
0
-0.25
594250.125
4694459.875
