0.25
0
0
-0.25
601180.125
4689939.875
