0.25
0
0
-0.25
631970.125
4695089.875
