0.25
0
0
-0.25
635400.125
4695159.875
