0.25
0
0
-0.25
628630.125
4690399.875
