0.25
0
0
-0.25
635490.125
4690529.875
