0.25
0
0
-0.25
655720.125
4707169.875
