0.25
0
0
-0.25
655770.125
4704849.875
