0.25
0
0
-0.25
584050.125
4687389.875
