0.25
0
0
-0.25
590940.125
4685159.875
