0.25
0
0
-0.25
591000.125
4680539.875
