0.25
0
0
-0.25
615020.125
4683219.875
