0.25
0
0
-0.25
608220.125
4678479.875
