0.25
0
0
-0.25
618650.125
4671709.875
