0.25
0
0
-0.25
621810.125
4687959.875
