0.25
0
0
-0.25
628800.125
4681149.875
