0.25
0
0
-0.25
628840.125
4678829.875
