0.25
0
0
-0.25
628970.125
4671889.875
