0.25
0
0
-0.25
587820.125
4659669.875
