0.25
0
0
-0.25
618760.125
4664769.875
