0.25
0
0
-0.25
605020.125
4662229.875
