0.25
0
0
-0.25
608500.125
4659969.875
