1
0
0
-1
586610.5
4752299.5
