1
0
0
-1
586670.5
4747679.5
