1
0
0
-1
593290.5
4761649.5
