1
0
0
-1
606950.5
4757239.5
