1
0
0
-1
613820.5
4752729.5
