1
0
0
-1
620540.5
4757479.5
