1
0
0
-1
641030.5
4753259.5
