1
0
0
-1
634320.5
4748489.5
