1
0
0
-1
600560.5
4729369.5
