1
0
0
-1
620790.5
4743599.5
