1
0
0
-1
634500.5
4739239.5
