1
0
0
-1
539160.5
4724059.5
