1
0
0
-1
587020.5
4719909.5
