1
0
0
-1
593790.5
4724639.5
