1
0
0
-1
607450.5
4724849.5
