1
0
0
-1
634950.5
4716099.5
