1
0
0
-1
580460.5
4696689.5
